BEGIN:VCALENDAR
VERSION:2.0
PRODID:-//jEvents 2.0 for Joomla//EN
CALSCALE:GREGORIAN
METHOD:PUBLISH
BEGIN:VEVENT
UID:d59f77cb2c248db0d123a99365533738
CATEGORIES:Veranstaltungen
CREATED:20180219T134857
SUMMARY:päd. Konferenz
DESCRIPTION:
DTSTAMP:20260423T215606
DTSTART:20180314T150000
DTEND:20180314T170000
SEQUENCE:0
TRANSP:OPAQUE
END:VEVENT
END:VCALENDAR