BEGIN:VCALENDAR
VERSION:2.0
PRODID:-//jEvents 2.0 for Joomla//EN
CALSCALE:GREGORIAN
METHOD:PUBLISH
BEGIN:VEVENT
UID:78215446ed4a0b7a4f762e74c29af1c9
CATEGORIES:Veranstaltungen
CREATED:20180219T135050
SUMMARY:DA Präsentationen HLW
DESCRIPTION:
DTSTAMP:20260423T220453
DTSTART:20180321T073000
DTEND:20180321T160000
SEQUENCE:0
TRANSP:OPAQUE
END:VEVENT
END:VCALENDAR