BEGIN:VCALENDAR
VERSION:2.0
PRODID:-//jEvents 2.0 for Joomla//EN
CALSCALE:GREGORIAN
METHOD:PUBLISH
BEGIN:VEVENT
UID:ca8a79b796a14ca78c83c9be3e2be833
CATEGORIES:Veranstaltungen
CREATED:20180219T135215
SUMMARY:Redewettbewerb
DESCRIPTION:<p>Ort: Veranstaltungszentrum</p>
DTSTAMP:20260423T220023
DTSTART:20180323T180000
DTEND:20180323T200000
SEQUENCE:0
TRANSP:OPAQUE
END:VEVENT
END:VCALENDAR