BEGIN:VCALENDAR
VERSION:2.0
PRODID:-//jEvents 2.0 for Joomla//EN
CALSCALE:GREGORIAN
METHOD:PUBLISH
BEGIN:VEVENT
UID:bae5322388f2699484a2372aaf44dce7
CATEGORIES:Termine
CREATED:20180219T135322
SUMMARY:Osterferien
DESCRIPTION:
DTSTAMP:20260423T183903
DTSTART;VALUE=DATE:20180326
DTEND;VALUE=DATE:20180404
SEQUENCE:0
TRANSP:OPAQUE
END:VEVENT
END:VCALENDAR