BEGIN:VCALENDAR
VERSION:2.0
PRODID:-//jEvents 2.0 for Joomla//EN
CALSCALE:GREGORIAN
METHOD:PUBLISH
BEGIN:VEVENT
UID:bff6d5d2eb79194bda73f327d064af5f
CATEGORIES:Veranstaltungen
CREATED:20180219T135513
SUMMARY:Nacht der Projekte
DESCRIPTION:<p>Ort: Wirtschaftskammer Reutte</p>
DTSTAMP:20260423T205808
DTSTART:20180405T153000
DTEND:20180405T193000
SEQUENCE:0
TRANSP:OPAQUE
END:VEVENT
END:VCALENDAR