BEGIN:VCALENDAR
VERSION:2.0
PRODID:-//jEvents 2.0 for Joomla//EN
CALSCALE:GREGORIAN
METHOD:PUBLISH
BEGIN:VEVENT
UID:8362a0c542a0d767ba98d2fe8d85612c
CATEGORIES:Termine
CREATED:20180219T195844
SUMMARY:Elternsprechtag
DESCRIPTION:
DTSTAMP:20260423T184917
DTSTART:20180426T143000
DTEND:20180426T170000
SEQUENCE:0
TRANSP:OPAQUE
END:VEVENT
END:VCALENDAR