BEGIN:VCALENDAR
VERSION:2.0
PRODID:-//jEvents 2.0 for Joomla//EN
CALSCALE:GREGORIAN
METHOD:PUBLISH
BEGIN:VEVENT
UID:52bb1a5c4f400f59df5db21f9aa7ad52
CATEGORIES:Termine
CREATED:20180219T195935
SUMMARY:päd. Konferenz
DESCRIPTION:
DTSTAMP:20260423T223943
DTSTART:20180502T140000
DTEND:20180502T160000
SEQUENCE:0
TRANSP:OPAQUE
END:VEVENT
END:VCALENDAR