BEGIN:VCALENDAR
VERSION:2.0
PRODID:-//jEvents 2.0 for Joomla//EN
CALSCALE:GREGORIAN
METHOD:PUBLISH
BEGIN:VEVENT
UID:c3878a1f0d4b0a83359235b2e5c80fdd
CATEGORIES:Termine
CREATED:20180219T200039
SUMMARY:Pfingsten
DESCRIPTION:
DTSTAMP:20260424T045314
DTSTART;VALUE=DATE:20180521
DTEND;VALUE=DATE:20180523
SEQUENCE:0
TRANSP:OPAQUE
END:VEVENT
END:VCALENDAR