BEGIN:VCALENDAR
VERSION:2.0
PRODID:-//jEvents 2.0 for Joomla//EN
CALSCALE:GREGORIAN
METHOD:PUBLISH
BEGIN:VEVENT
UID:fa909a49c7d9f67af933e2f853f48674
CATEGORIES:Prüfungen
CREATED:20180219T200113
SUMMARY:prakt. Prüfungen HLW
DESCRIPTION:
DTSTAMP:20260424T013805
DTSTART;VALUE=DATE:20180524
DTEND;VALUE=DATE:20180530
SEQUENCE:0
TRANSP:OPAQUE
END:VEVENT
END:VCALENDAR