BEGIN:VCALENDAR
VERSION:2.0
PRODID:-//jEvents 2.0 for Joomla//EN
CALSCALE:GREGORIAN
METHOD:PUBLISH
BEGIN:VEVENT
UID:8ac81fb93d64839cc1207f2f7ca9e1a1
CATEGORIES:Termine
CREATED:20180219T200150
SUMMARY:Themenpools vorgez. RDP
DESCRIPTION:
DTSTAMP:20260424T041027
DTSTART;VALUE=DATE:20180531
DTEND;VALUE=DATE:20180601
SEQUENCE:0
TRANSP:OPAQUE
END:VEVENT
END:VCALENDAR