BEGIN:VCALENDAR
VERSION:2.0
PRODID:-//jEvents 2.0 for Joomla//EN
CALSCALE:GREGORIAN
METHOD:PUBLISH
BEGIN:VEVENT
UID:26174ca2c9356bcdab3fe2c4faeac3f3
CATEGORIES:Prüfungen
CREATED:20180219T200227
SUMMARY:Kompensationsprüfungen
DESCRIPTION:
DTSTAMP:20260423T234756
DTSTART;VALUE=DATE:20180605
DTEND;VALUE=DATE:20180607
SEQUENCE:0
TRANSP:OPAQUE
END:VEVENT
END:VCALENDAR