BEGIN:VCALENDAR
VERSION:2.0
PRODID:-//jEvents 2.0 for Joomla//EN
CALSCALE:GREGORIAN
METHOD:PUBLISH
BEGIN:VEVENT
UID:f6167091fc23ae0c4eb60c3cb0246232
CATEGORIES:Prüfungen
CREATED:20180219T200347
SUMMARY:RDP 5 WA
DESCRIPTION:
DTSTAMP:20260424T050100
DTSTART;VALUE=DATE:20180618
DTEND;VALUE=DATE:20180620
SEQUENCE:0
TRANSP:OPAQUE
END:VEVENT
END:VCALENDAR