BEGIN:VCALENDAR
VERSION:2.0
PRODID:-//jEvents 2.0 for Joomla//EN
CALSCALE:GREGORIAN
METHOD:PUBLISH
BEGIN:VEVENT
UID:4eb78c14443b6565baf39b76ed5c8f10
CATEGORIES:Prüfungen
CREATED:20180219T200422
SUMMARY:RDP 5 WB
DESCRIPTION:
DTSTAMP:20260423T234519
DTSTART;VALUE=DATE:20180621
DTEND;VALUE=DATE:20180623
SEQUENCE:0
TRANSP:OPAQUE
END:VEVENT
END:VCALENDAR