BEGIN:VCALENDAR
VERSION:2.0
PRODID:-//jEvents 2.0 for Joomla//EN
CALSCALE:GREGORIAN
METHOD:PUBLISH
BEGIN:VEVENT
UID:e92a9319b18582758640d2a05589d9d8
CATEGORIES:Termine
CREATED:20180219T200540
SUMMARY:Notenschluss
DESCRIPTION:
DTSTAMP:20260424T025254
DTSTART:20180629T060000
DTEND:20180629T080000
SEQUENCE:0
TRANSP:OPAQUE
END:VEVENT
END:VCALENDAR