BEGIN:VCALENDAR
VERSION:2.0
PRODID:-//jEvents 2.0 for Joomla//EN
CALSCALE:GREGORIAN
METHOD:PUBLISH
BEGIN:VEVENT
UID:4d9fdd176545108b6543ca69feabd8a4
CATEGORIES:Termine
CREATED:20180219T200646
SUMMARY:Schlusskonferenz
DESCRIPTION:
DTSTAMP:20260424T044559
DTSTART:20180629T103000
SEQUENCE:0
TRANSP:OPAQUE
END:VEVENT
END:VCALENDAR