BEGIN:VCALENDAR
VERSION:2.0
PRODID:-//jEvents 2.0 for Joomla//EN
CALSCALE:GREGORIAN
METHOD:PUBLISH
BEGIN:VEVENT
UID:003ffee1250e25544be87bd346ecff77
CATEGORIES:Termine
CREATED:20180219T201246
SUMMARY:Staatsfeiertag
DESCRIPTION:
DTSTAMP:20260424T004611
DTSTART;VALUE=DATE:20180501
DTEND;VALUE=DATE:20180502
SEQUENCE:0
TRANSP:OPAQUE
END:VEVENT
END:VCALENDAR