BEGIN:VCALENDAR
VERSION:2.0
PRODID:-//jEvents 2.0 for Joomla//EN
CALSCALE:GREGORIAN
METHOD:PUBLISH
BEGIN:VEVENT
UID:8e8d61896e1843c508725ac69bb6e61a
CATEGORIES:Termine
CREATED:20180219T201405
SUMMARY:Christi Himmelfahrt
DESCRIPTION:
DTSTAMP:20260424T040238
DTSTART;VALUE=DATE:20180510
DTEND;VALUE=DATE:20180511
SEQUENCE:0
TRANSP:OPAQUE
END:VEVENT
END:VCALENDAR