BEGIN:VCALENDAR
VERSION:2.0
PRODID:-//jEvents 2.0 for Joomla//EN
CALSCALE:GREGORIAN
METHOD:PUBLISH
BEGIN:VEVENT
UID:44bc23e2de7154800a45148a3d2c76bc
CATEGORIES:Termine
CREATED:20180219T201435
SUMMARY:Fronleichnam
DESCRIPTION:
DTSTAMP:20260424T040536
DTSTART;VALUE=DATE:20180531
DTEND;VALUE=DATE:20180601
SEQUENCE:0
TRANSP:OPAQUE
END:VEVENT
END:VCALENDAR