BEGIN:VCALENDAR
VERSION:2.0
PRODID:-//jEvents 2.0 for Joomla//EN
CALSCALE:GREGORIAN
METHOD:PUBLISH
BEGIN:VEVENT
UID:b9a190bbcb3191766a119ec95758d2ec
CATEGORIES:Termine
CREATED:20180914T155429
SUMMARY:Elternsprechtag
DESCRIPTION:
DTSTAMP:20260423T183226
DTSTART:20181204T153000
DTEND:20181204T183000
SEQUENCE:0
TRANSP:OPAQUE
END:VEVENT
END:VCALENDAR