BEGIN:VCALENDAR
VERSION:2.0
PRODID:-//jEvents 2.0 for Joomla//EN
CALSCALE:GREGORIAN
METHOD:PUBLISH
BEGIN:VEVENT
UID:ba7e3076599eeaf7be1dcb664b5e2a26
CATEGORIES:Veranstaltungen
CREATED:20180914T155711
SUMMARY:Tag der offenen Tür
DESCRIPTION:
DTSTAMP:20260423T145217
DTSTART:20190118T080000
DTEND:20190118T160000
SEQUENCE:0
TRANSP:OPAQUE
END:VEVENT
END:VCALENDAR