BEGIN:VCALENDAR
VERSION:2.0
PRODID:-//jEvents 2.0 for Joomla//EN
CALSCALE:GREGORIAN
METHOD:PUBLISH
BEGIN:VEVENT
UID:9517995ee03538a8815d91d9e661d447
CATEGORIES:Veranstaltungen
CREATED:20181206T103236
SUMMARY:HAS Projekt "gesunde Jause" 
DESCRIPTION:
DTSTAMP:20260423T182620
DTSTART:20181210T070000
DTEND:20181210T090000
SEQUENCE:0
TRANSP:OPAQUE
END:VEVENT
END:VCALENDAR