BEGIN:VCALENDAR
VERSION:2.0
PRODID:-//jEvents 2.0 for Joomla//EN
CALSCALE:GREGORIAN
METHOD:PUBLISH
BEGIN:VEVENT
UID:436bbf6daa138394d4d6d294f0a59d07
CATEGORIES:Veranstaltungen
CREATED:20181206T103316
SUMMARY:Bewerbungsseminar 3s
DESCRIPTION:
DTSTAMP:20260423T183000
DTSTART:20181217T120000
DTEND:20181217T150000
SEQUENCE:0
TRANSP:OPAQUE
END:VEVENT
END:VCALENDAR