BEGIN:VCALENDAR
VERSION:2.0
PRODID:-//jEvents 2.0 for Joomla//EN
CALSCALE:GREGORIAN
METHOD:PUBLISH
BEGIN:VEVENT
UID:10a5a5c5aad1a298b9cab7fe97f8a64d
CATEGORIES:Veranstaltungen
CREATED:20181220T105018
SUMMARY:Exkursion 3wa/wb Hotel Post Lermoos
DESCRIPTION:
DTSTAMP:20260423T182857
DTSTART:20181221T070000
DTEND:20181221T110000
SEQUENCE:0
TRANSP:OPAQUE
END:VEVENT
END:VCALENDAR