BEGIN:VCALENDAR
VERSION:2.0
PRODID:-//jEvents 2.0 for Joomla//EN
CALSCALE:GREGORIAN
METHOD:PUBLISH
BEGIN:VEVENT
UID:b4c8ae1375dd0220d4be14ad92f67b8b
CATEGORIES:Veranstaltungen
CREATED:20181220T105115
SUMMARY:päd. Konferenz
DESCRIPTION:
DTSTAMP:20260423T145941
DTSTART:20190109T150000
DTEND:20190109T170000
SEQUENCE:0
TRANSP:OPAQUE
END:VEVENT
END:VCALENDAR