BEGIN:VCALENDAR
VERSION:2.0
PRODID:-//jEvents 2.0 for Joomla//EN
CALSCALE:GREGORIAN
METHOD:PUBLISH
BEGIN:VEVENT
UID:2cc14468a5f36016065b336f8c5c5ceb
CATEGORIES:Veranstaltungen
CREATED:20181220T114608
SUMMARY:Präsentation Diplomarbeiten 5a/3s
DESCRIPTION:
DTSTAMP:20260423T152852
DTSTART:20190320T070000
DTEND:20190320T160000
SEQUENCE:0
TRANSP:OPAQUE
END:VEVENT
END:VCALENDAR