BEGIN:VCALENDAR
VERSION:2.0
PRODID:-//jEvents 2.0 for Joomla//EN
CALSCALE:GREGORIAN
METHOD:PUBLISH
BEGIN:VEVENT
UID:b7457ec94fe363e24d3b038c8d0434dc
CATEGORIES:Veranstaltungen
CREATED:20181220T114650
SUMMARY:Präsentation Diplomarbeiten 5w
DESCRIPTION:
DTSTAMP:20260423T152318
DTSTART:20190315T070000
DTEND:20190315T160000
SEQUENCE:0
TRANSP:OPAQUE
END:VEVENT
END:VCALENDAR