BEGIN:VCALENDAR
VERSION:2.0
PRODID:-//jEvents 2.0 for Joomla//EN
CALSCALE:GREGORIAN
METHOD:PUBLISH
BEGIN:VEVENT
UID:3bd8da2dd116c3c6acc7d526a92da198
CATEGORIES:Veranstaltungen
CREATED:20181220T115044
SUMMARY:Notenschluss 5a/5w
DESCRIPTION:
DTSTAMP:20260423T100528
DTSTART:20190424T100000
DTEND:20190424T103000
SEQUENCE:0
TRANSP:OPAQUE
END:VEVENT
END:VCALENDAR