BEGIN:VCALENDAR
VERSION:2.0
PRODID:-//jEvents 2.0 for Joomla//EN
CALSCALE:GREGORIAN
METHOD:PUBLISH
BEGIN:VEVENT
UID:8a9f6d3e5dede6901fcbfcf70941166c
CATEGORIES:Veranstaltungen
CREATED:20181220T115237
SUMMARY:Klassenkonferenz 5a/5w
DESCRIPTION:
DTSTAMP:20260423T100356
DTSTART:20190424T141500
DTEND:20190424T150000
SEQUENCE:0
TRANSP:OPAQUE
END:VEVENT
END:VCALENDAR