BEGIN:VCALENDAR
VERSION:2.0
PRODID:-//jEvents 2.0 for Joomla//EN
CALSCALE:GREGORIAN
METHOD:PUBLISH
BEGIN:VEVENT
UID:4c1f907508065563da4e3671da51df2e
CATEGORIES:Veranstaltungen
CREATED:20181220T115546
SUMMARY:Wiederholungsprüfungen 5a/5w
DESCRIPTION:
DTSTAMP:20260423T100216
DTSTART:20190426T060000
DTEND:20190426T100000
SEQUENCE:0
TRANSP:OPAQUE
END:VEVENT
END:VCALENDAR