BEGIN:VCALENDAR
VERSION:2.0
PRODID:-//jEvents 2.0 for Joomla//EN
CALSCALE:GREGORIAN
METHOD:PUBLISH
BEGIN:VEVENT
UID:f18a97cc9ccdcb4c204db008d70b6371
CATEGORIES:Veranstaltungen
CREATED:20181220T115626
SUMMARY:letzter Schultag 5a/5w
DESCRIPTION:
DTSTAMP:20260423T130128
DTSTART:20190502T060000
DTEND:20190502T100000
SEQUENCE:0
TRANSP:OPAQUE
END:VEVENT
END:VCALENDAR