BEGIN:VCALENDAR
VERSION:2.0
PRODID:-//jEvents 2.0 for Joomla//EN
CALSCALE:GREGORIAN
METHOD:PUBLISH
BEGIN:VEVENT
UID:0cc1286ae1f850790a1078d2ba37fe97
CATEGORIES:Veranstaltungen
CREATED:20181220T115709
SUMMARY:schriftliche RDP BFK
DESCRIPTION:
DTSTAMP:20260423T125402
DTSTART:20190503T060000
DTEND:20190503T150000
SEQUENCE:0
TRANSP:OPAQUE
END:VEVENT
END:VCALENDAR