BEGIN:VCALENDAR
VERSION:2.0
PRODID:-//jEvents 2.0 for Joomla//EN
CALSCALE:GREGORIAN
METHOD:PUBLISH
BEGIN:VEVENT
UID:4f6d8b2c0ea1fcfabfd6ac6ae81c0861
CATEGORIES:Veranstaltungen
CREATED:20181220T115737
SUMMARY:schriftliche RDP D
DESCRIPTION:
DTSTAMP:20260423T162802
DTSTART:20190507T060000
DTEND:20190507T150000
SEQUENCE:0
TRANSP:OPAQUE
END:VEVENT
END:VCALENDAR