BEGIN:VCALENDAR
VERSION:2.0
PRODID:-//jEvents 2.0 for Joomla//EN
CALSCALE:GREGORIAN
METHOD:PUBLISH
BEGIN:VEVENT
UID:76410eb14472fff32b9a70d9fd7c9ff8
CATEGORIES:Veranstaltungen
CREATED:20181220T115849
SUMMARY:schriftliche RDP FR
DESCRIPTION:
DTSTAMP:20260423T162630
DTSTART:20190509T060000
DTEND:20190509T150000
SEQUENCE:0
TRANSP:OPAQUE
END:VEVENT
END:VCALENDAR