BEGIN:VCALENDAR
VERSION:2.0
PRODID:-//jEvents 2.0 for Joomla//EN
CALSCALE:GREGORIAN
METHOD:PUBLISH
BEGIN:VEVENT
UID:9aa9f611392e81829c119da80cd8eb1f
CATEGORIES:Veranstaltungen
CREATED:20181220T115926
SUMMARY:schriftliche RDP E
DESCRIPTION:
DTSTAMP:20260423T161526
DTSTART:20190510T060000
DTEND:20190510T150000
SEQUENCE:0
TRANSP:OPAQUE
END:VEVENT
END:VCALENDAR