BEGIN:VCALENDAR
VERSION:2.0
PRODID:-//jEvents 2.0 for Joomla//EN
CALSCALE:GREGORIAN
METHOD:PUBLISH
BEGIN:VEVENT
UID:6f1aa8f797f4b9cd5a0b6386294eeebb
CATEGORIES:Veranstaltungen
CREATED:20181220T115957
SUMMARY:schriftliche RDP IT
DESCRIPTION:
DTSTAMP:20260423T162545
DTSTART:20190514T060000
DTEND:20190514T150000
SEQUENCE:0
TRANSP:OPAQUE
END:VEVENT
END:VCALENDAR