BEGIN:VCALENDAR
VERSION:2.0
PRODID:-//jEvents 2.0 for Joomla//EN
CALSCALE:GREGORIAN
METHOD:PUBLISH
BEGIN:VEVENT
UID:22cb59de793ed644a41e6e8f45962cce
CATEGORIES:Veranstaltungen
CREATED:20181220T120116
SUMMARY:Konferenz Prüfer 5a
DESCRIPTION:
DTSTAMP:20260423T180237
DTSTART:20190523T123000
DTEND:20190523T133000
SEQUENCE:0
TRANSP:OPAQUE
END:VEVENT
END:VCALENDAR