BEGIN:VCALENDAR
VERSION:2.0
PRODID:-//jEvents 2.0 for Joomla//EN
CALSCALE:GREGORIAN
METHOD:PUBLISH
BEGIN:VEVENT
UID:e4aa7040e7d4745f5ae66a9a543cec88
CATEGORIES:Veranstaltungen
CREATED:20181220T120500
SUMMARY:Konferenz Prüfer 5w
DESCRIPTION:
DTSTAMP:20260423T181016
DTSTART:20190522T130000
DTEND:20190522T150000
SEQUENCE:0
TRANSP:OPAQUE
END:VEVENT
END:VCALENDAR