BEGIN:VCALENDAR
VERSION:2.0
PRODID:-//jEvents 2.0 for Joomla//EN
CALSCALE:GREGORIAN
METHOD:PUBLISH
BEGIN:VEVENT
UID:29af1602a7730ce2a7158299d140879d
CATEGORIES:Veranstaltungen
CREATED:20181220T120552
SUMMARY:Kompensationsprüfungen 5a/5w
DESCRIPTION:
DTSTAMP:20260423T180836
DTSTART:20190528T060000
DTEND:20190529T150000
SEQUENCE:0
TRANSP:OPAQUE
END:VEVENT
END:VCALENDAR