BEGIN:VCALENDAR
VERSION:2.0
PRODID:-//jEvents 2.0 for Joomla//EN
CALSCALE:GREGORIAN
METHOD:PUBLISH
BEGIN:VEVENT
UID:fe45b5e48778030f5c661ca5e0f817cf
CATEGORIES:Veranstaltungen
CREATED:20181220T120853
SUMMARY:Notenschluss 3s
DESCRIPTION:
DTSTAMP:20260423T162716
DTSTART:20190510T100000
DTEND:20190510T101500
SEQUENCE:0
TRANSP:OPAQUE
END:VEVENT
END:VCALENDAR