BEGIN:VCALENDAR
VERSION:2.0
PRODID:-//jEvents 2.0 for Joomla//EN
CALSCALE:GREGORIAN
METHOD:PUBLISH
BEGIN:VEVENT
UID:9c3959a9a937abc28ca640cefd1a1028
CATEGORIES:Veranstaltungen
CREATED:20181220T120939
SUMMARY:Klassenkonferenz 3s
DESCRIPTION:
DTSTAMP:20260423T162803
DTSTART:20190510T121500
DTEND:20190510T140000
SEQUENCE:0
TRANSP:OPAQUE
END:VEVENT
END:VCALENDAR