BEGIN:VCALENDAR
VERSION:2.0
PRODID:-//jEvents 2.0 for Joomla//EN
CALSCALE:GREGORIAN
METHOD:PUBLISH
BEGIN:VEVENT
UID:77da0b7101c625660acfd4eef0a30920
CATEGORIES:Veranstaltungen
CREATED:20181220T121018
SUMMARY:Wiederholungsprüfungen 3s
DESCRIPTION:
DTSTAMP:20260423T180548
DTSTART:20190516T060000
DTEND:20190516T100000
SEQUENCE:0
TRANSP:OPAQUE
END:VEVENT
END:VCALENDAR