BEGIN:VCALENDAR
VERSION:2.0
PRODID:-//jEvents 2.0 for Joomla//EN
CALSCALE:GREGORIAN
METHOD:PUBLISH
BEGIN:VEVENT
UID:521981a1a2ae9ac0cd778dc9594873ff
CATEGORIES:Veranstaltungen
CREATED:20181220T121100
SUMMARY:letzter Schultag 3s
DESCRIPTION:
DTSTAMP:20260423T162931
DTSTART:20190517T060000
DTEND:20190517T100000
SEQUENCE:0
TRANSP:OPAQUE
END:VEVENT
END:VCALENDAR