BEGIN:VCALENDAR
VERSION:2.0
PRODID:-//jEvents 2.0 for Joomla//EN
CALSCALE:GREGORIAN
METHOD:PUBLISH
BEGIN:VEVENT
UID:877680a0b202857cb7bfb3cfce3f45a9
CATEGORIES:Veranstaltungen
CREATED:20181220T121127
SUMMARY:schriftliche AP D
DESCRIPTION:
DTSTAMP:20260423T162808
DTSTART:20190520T060000
DTEND:20190520T150000
SEQUENCE:0
TRANSP:OPAQUE
END:VEVENT
END:VCALENDAR