BEGIN:VCALENDAR
VERSION:2.0
PRODID:-//jEvents 2.0 for Joomla//EN
CALSCALE:GREGORIAN
METHOD:PUBLISH
BEGIN:VEVENT
UID:8063b02afd198eec94fd626aa95cca32
CATEGORIES:Veranstaltungen
CREATED:20181220T121153
SUMMARY:schriftliche AP ÜFA
DESCRIPTION:
DTSTAMP:20260423T180403
DTSTART:20190522T060000
DTEND:20190522T150000
SEQUENCE:0
TRANSP:OPAQUE
END:VEVENT
END:VCALENDAR