BEGIN:VCALENDAR
VERSION:2.0
PRODID:-//jEvents 2.0 for Joomla//EN
CALSCALE:GREGORIAN
METHOD:PUBLISH
BEGIN:VEVENT
UID:f2859cbe0b05e42f3fe4fa1e788d9336
CATEGORIES:Veranstaltungen
CREATED:20181220T121424
SUMMARY:Notenschluss 3w
DESCRIPTION:
DTSTAMP:20260423T163302
DTSTART:20190524T100000
DTEND:20190524T101500
SEQUENCE:0
TRANSP:OPAQUE
END:VEVENT
END:VCALENDAR