BEGIN:VCALENDAR
VERSION:2.0
PRODID:-//jEvents 2.0 for Joomla//EN
CALSCALE:GREGORIAN
METHOD:PUBLISH
BEGIN:VEVENT
UID:cec950dbdccf3bf6d1c65bb97fe192c2
CATEGORIES:Veranstaltungen
CREATED:20181220T121457
SUMMARY:Klassenkonferenz 3w
DESCRIPTION:
DTSTAMP:20260423T180651
DTSTART:20190524T121500
DTEND:20190524T150000
SEQUENCE:0
TRANSP:OPAQUE
END:VEVENT
END:VCALENDAR