BEGIN:VCALENDAR
VERSION:2.0
PRODID:-//jEvents 2.0 for Joomla//EN
CALSCALE:GREGORIAN
METHOD:PUBLISH
BEGIN:VEVENT
UID:ec938a0197eba30c9a40faaaeb9e8a67
CATEGORIES:Veranstaltungen
CREATED:20181220T121529
SUMMARY:letzter Schultag 3w
DESCRIPTION:
DTSTAMP:20260423T162804
DTSTART:20190529T060000
DTEND:20190529T100000
SEQUENCE:0
TRANSP:OPAQUE
END:VEVENT
END:VCALENDAR