BEGIN:VCALENDAR
VERSION:2.0
PRODID:-//jEvents 2.0 for Joomla//EN
CALSCALE:GREGORIAN
METHOD:PUBLISH
BEGIN:VEVENT
UID:25de0bfab8833cb30d6e4a9d6b36a13a
CATEGORIES:Veranstaltungen
CREATED:20181220T121609
SUMMARY:praktische Vorprüfungen 4wa/4wb
DESCRIPTION:
DTSTAMP:20260423T162715
DTSTART:20190522T060000
DTEND:20190528T160000
SEQUENCE:0
TRANSP:OPAQUE
END:VEVENT
END:VCALENDAR