BEGIN:VCALENDAR
VERSION:2.0
PRODID:-//jEvents 2.0 for Joomla//EN
CALSCALE:GREGORIAN
METHOD:PUBLISH
BEGIN:VEVENT
UID:97cd0ab2a361b08864d9fb57bdefd38f
CATEGORIES:Veranstaltungen
CREATED:20181220T121846
SUMMARY:Coachingtage 5a/5w
DESCRIPTION:
DTSTAMP:20260423T115310
DTSTART:20190425T060000
DTEND:20190430T150000
SEQUENCE:0
TRANSP:OPAQUE
END:VEVENT
END:VCALENDAR