BEGIN:VCALENDAR
VERSION:2.0
PRODID:-//jEvents 2.0 for Joomla//EN
CALSCALE:GREGORIAN
METHOD:PUBLISH
BEGIN:VEVENT
UID:3713cb08fb46c8c93bd89e833166d373
CATEGORIES:Veranstaltungen
CREATED:20181220T121920
SUMMARY:Coachingtage 3s
DESCRIPTION:
DTSTAMP:20260423T180509
DTSTART:20190513T060000
DTEND:20190516T150000
SEQUENCE:0
TRANSP:OPAQUE
END:VEVENT
END:VCALENDAR